BEGIN:VCALENDAR
VERSION:2.0
PRODID:-//Mosaik-Schule Münster - ECPv6.15.20//NONSGML v1.0//EN
CALSCALE:GREGORIAN
METHOD:PUBLISH
X-WR-CALNAME:Mosaik-Schule Münster
X-ORIGINAL-URL:https://mosaik-schule.org
X-WR-CALDESC:Veranstaltungen für Mosaik-Schule Münster
REFRESH-INTERVAL;VALUE=DURATION:PT1H
X-Robots-Tag:noindex
X-PUBLISHED-TTL:PT1H
BEGIN:VTIMEZONE
TZID:Europe/Berlin
BEGIN:DAYLIGHT
TZOFFSETFROM:+0100
TZOFFSETTO:+0200
TZNAME:CEST
DTSTART:20250330T010000
END:DAYLIGHT
BEGIN:STANDARD
TZOFFSETFROM:+0200
TZOFFSETTO:+0100
TZNAME:CET
DTSTART:20251026T010000
END:STANDARD
BEGIN:DAYLIGHT
TZOFFSETFROM:+0100
TZOFFSETTO:+0200
TZNAME:CEST
DTSTART:20260329T010000
END:DAYLIGHT
BEGIN:STANDARD
TZOFFSETFROM:+0200
TZOFFSETTO:+0100
TZNAME:CET
DTSTART:20261025T010000
END:STANDARD
BEGIN:DAYLIGHT
TZOFFSETFROM:+0100
TZOFFSETTO:+0200
TZNAME:CEST
DTSTART:20270328T010000
END:DAYLIGHT
BEGIN:STANDARD
TZOFFSETFROM:+0200
TZOFFSETTO:+0100
TZNAME:CET
DTSTART:20271031T010000
END:STANDARD
BEGIN:DAYLIGHT
TZOFFSETFROM:+0100
TZOFFSETTO:+0200
TZNAME:CEST
DTSTART:20280326T010000
END:DAYLIGHT
BEGIN:STANDARD
TZOFFSETFROM:+0200
TZOFFSETTO:+0100
TZNAME:CET
DTSTART:20281029T010000
END:STANDARD
BEGIN:DAYLIGHT
TZOFFSETFROM:+0100
TZOFFSETTO:+0200
TZNAME:CEST
DTSTART:20290325T010000
END:DAYLIGHT
BEGIN:STANDARD
TZOFFSETFROM:+0200
TZOFFSETTO:+0100
TZNAME:CET
DTSTART:20291028T010000
END:STANDARD
END:VTIMEZONE
BEGIN:VEVENT
DTSTART;VALUE=DATE:20260605
DTEND;VALUE=DATE:20260606
DTSTAMP:20260423T114106
CREATED:20241212T105638Z
LAST-MODIFIED:20241212T105650Z
UID:26345-1780617600-1780703999@mosaik-schule.org
SUMMARY:Beweglicher Ferientag - unterrichtsfrei
DESCRIPTION:Nach Beschluss der Schulkonferenz vom 11.12.24 unterrichtsfrei – Eine Betreuungsabfrage erfolgt rechtzeitig für Kinder mit Betreuungsvertrag.
URL:https://mosaik-schule.org/event/beweglicher-ferientag-unterrichtsfrei-2
END:VEVENT
BEGIN:VEVENT
DTSTART;TZID=Europe/Berlin:20260619T083000
DTEND;TZID=Europe/Berlin:20260619T114500
DTSTAMP:20260423T114106
CREATED:20230806T125045Z
LAST-MODIFIED:20260208T111525Z
UID:24441-1781857800-1781869500@mosaik-schule.org
SUMMARY:Sportfest
DESCRIPTION:Nähere Infos erfolgen rechtzeitig
URL:https://mosaik-schule.org/event/trimmfest-2
END:VEVENT
BEGIN:VEVENT
DTSTART;TZID=Europe/Berlin:20260623T190000
DTEND;TZID=Europe/Berlin:20260623T210000
DTSTAMP:20260423T114106
CREATED:20210505T061850Z
LAST-MODIFIED:20260208T115519Z
UID:21200-1782241200-1782248400@mosaik-schule.org
SUMMARY:Einschulung - Eltern-Info-Abend
DESCRIPTION:Info-Abend zur Einschulungswoche an der Mosaik-Schule 2026/27  – Genauere Infos gibt es mit der Aufnahme-Zusage
URL:https://mosaik-schule.org/event/einschulung-eltern-info-abend
LOCATION:Forum der  Mosaik-Schule
END:VEVENT
BEGIN:VEVENT
DTSTART;TZID=Europe/Berlin:20260624T150000
DTEND;TZID=Europe/Berlin:20260624T170000
DTSTAMP:20260423T114106
CREATED:20230214T115442Z
LAST-MODIFIED:20260205T170407Z
UID:23345-1782313200-1782320400@mosaik-schule.org
SUMMARY:Leonardo-Campus-Run
DESCRIPTION:Am Mittwoch\, den 24.06.26\, findet der Leonardo-Lauf statt. Wir werden versuchen\, wie letztes Jahr wieder die erfolgreichste Grundschule Münsters zu werden. \nDie U8-Kinder (Kinder bis 8 Jahre) starten um 15:30 mit dem 750m-Lauf „Sparkassen-Kids-Run“ \nDie „Sparkassen-Challenge-Run“ (2\,5 km) startet um 16:00 Uhr. Er ist geeignet für Kinder von 8-15 Jahren. \nNähere Infos folgen immer rechtzeitig. Hier die Homepage-Adresse der Uni: https://www.uni-muenster.de/Leonardo-Campus-Run/
URL:https://mosaik-schule.org/event/leonardo-campus-run
END:VEVENT
BEGIN:VEVENT
DTSTART;TZID=Europe/Berlin:20260707T193000
DTEND;TZID=Europe/Berlin:20260707T210000
DTSTAMP:20260423T114106
CREATED:20220207T154054Z
LAST-MODIFIED:20260208T111838Z
UID:22005-1783452600-1783458000@mosaik-schule.org
SUMMARY:2. Schulkonferenz
DESCRIPTION:Einladung erfolgt rechtzeitig
URL:https://mosaik-schule.org/event/schulkonferenz
LOCATION:LehrInnen-Zimmer im Neubau
END:VEVENT
BEGIN:VEVENT
DTSTART;TZID=Europe/Berlin:20260709T081500
DTEND;TZID=Europe/Berlin:20260709T090000
DTSTAMP:20260423T114106
CREATED:20241002T130447Z
LAST-MODIFIED:20260208T111953Z
UID:26151-1783584900-1783587600@mosaik-schule.org
SUMMARY:Abschlussgottesdienst
DESCRIPTION:In der 1. Stunde: Ökumenischer Gottesdienst
URL:https://mosaik-schule.org/event/abschlussgottesdienst
LOCATION:Forum der  Mosaik-Schule
END:VEVENT
BEGIN:VEVENT
DTSTART;TZID=Europe/Berlin:20260710T081500
DTEND;TZID=Europe/Berlin:20260710T120000
DTSTAMP:20260423T114106
CREATED:20220207T154225Z
LAST-MODIFIED:20260208T112045Z
UID:22007-1783671300-1783684800@mosaik-schule.org
SUMMARY:Wandertag
DESCRIPTION:Am Vormittag geht die ganze Schule auf Wanderung! Details werden rechtzeitg bekannt gegeben.
URL:https://mosaik-schule.org/event/wandertag
END:VEVENT
BEGIN:VEVENT
DTSTART;TZID=Europe/Berlin:20260715T081500
DTEND;TZID=Europe/Berlin:20260715T124500
DTSTAMP:20260423T114106
CREATED:20220207T154335Z
LAST-MODIFIED:20260208T112254Z
UID:22009-1784103300-1784119500@mosaik-schule.org
SUMMARY:Zeugnisausgabe Klassen 1-4 mit Kindersprechtag
DESCRIPTION:Je nach Bedarf erfolgt eine Zeugnisaussprache am 16.07.26 nach dem Unterricht.
URL:https://mosaik-schule.org/event/zeugnisausgabe-klassen-1-4-mit-kindersprechtag
END:VEVENT
BEGIN:VEVENT
DTSTART;TZID=Europe/Berlin:20260717T100000
DTEND;TZID=Europe/Berlin:20260717T110000
DTSTAMP:20260423T114106
CREATED:20220207T154657Z
LAST-MODIFIED:20260208T112523Z
UID:22012-1784282400-1784286000@mosaik-schule.org
SUMMARY:Abschlussfest
DESCRIPTION:Am letzten Tag vor den Sommerferien verabschieden wir uns von unseren Viertklässlern von 10:00 – 11:00 im Forum. Dafür haben die Drittklässler ein Programm vorbereitet. Der Unterricht endet um 11:00 Uhr. \n 
URL:https://mosaik-schule.org/event/abschlussfest
END:VEVENT
BEGIN:VEVENT
DTSTART;VALUE=DATE:20260720
DTEND;VALUE=DATE:20260902
DTSTAMP:20260423T114106
CREATED:20220207T160142Z
LAST-MODIFIED:20260208T112804Z
UID:22022-1784505600-1788307199@mosaik-schule.org
SUMMARY:Sommerferien
DESCRIPTION:Erster Ferientag: Montag\, 20.07.2026 \nLetzter Ferientag: Dienstag\, 02.09.2026 \nUnterrichtsbeginn für die Klassen 2-4: am 02.09.2026 von 8.00 – 11.45 Uhr
URL:https://mosaik-schule.org/event/sommerferien
END:VEVENT
BEGIN:VEVENT
DTSTART;TZID=Europe/Berlin:20260903T081500
DTEND;TZID=Europe/Berlin:20260903T103000
DTSTAMP:20260423T114106
CREATED:20210706T104722Z
LAST-MODIFIED:20260208T115407Z
UID:21438-1788423300-1788431400@mosaik-schule.org
SUMMARY:Einschulung Klassen 1
DESCRIPTION:Einschulungsfeier und die erste Schulstunde für die neuen Erstklässlerkinder – Genauere Infos erfolgen rechtzeitig vor den Sommerferien
URL:https://mosaik-schule.org/event/einschulung-1wie
LOCATION:Mosaik-Schule
END:VEVENT
BEGIN:VEVENT
DTSTART;VALUE=DATE:20270208
DTEND;VALUE=DATE:20270209
DTSTAMP:20260423T114106
CREATED:20250128T073355Z
LAST-MODIFIED:20250128T073355Z
UID:26444-1802044800-1802131199@mosaik-schule.org
SUMMARY:Beweglicher Ferientag - unterrichtsfrei
DESCRIPTION:Rosenmontag – Abfrage Betreuung erfolgt rechtzeitig
URL:https://mosaik-schule.org/event/beweglicher-ferientag-unterrichtsfrei-3
END:VEVENT
BEGIN:VEVENT
DTSTART;VALUE=DATE:20270507
DTEND;VALUE=DATE:20270508
DTSTAMP:20260423T114106
CREATED:20250128T073522Z
LAST-MODIFIED:20250128T073522Z
UID:26446-1809648000-1809734399@mosaik-schule.org
SUMMARY:Beweglicher Ferientag - unterrichtsfrei
DESCRIPTION:Beweglicher Ferientag – Abfrage Betreuung erfolgt vorher
URL:https://mosaik-schule.org/event/beweglicher-ferientag-unterrichtsfrei-4
END:VEVENT
BEGIN:VEVENT
DTSTART;VALUE=DATE:20280228
DTEND;VALUE=DATE:20280229
DTSTAMP:20260423T114106
CREATED:20250128T073626Z
LAST-MODIFIED:20250128T073626Z
UID:26448-1835308800-1835395199@mosaik-schule.org
SUMMARY:Beweglicher Ferientag - unterrichtsfrei
DESCRIPTION:Rosenmontag – Abfrage Betreuung erfolgt vorher
URL:https://mosaik-schule.org/event/beweglicher-ferientag-unterrichtsfrei-5
END:VEVENT
BEGIN:VEVENT
DTSTART;VALUE=DATE:20280526
DTEND;VALUE=DATE:20280527
DTSTAMP:20260423T114106
CREATED:20250128T073717Z
LAST-MODIFIED:20250128T073717Z
UID:26450-1842912000-1842998399@mosaik-schule.org
SUMMARY:Beweglicher Ferientag - unterrichtsfrei
DESCRIPTION:Abfrage Betreuung erfolgt vorher
URL:https://mosaik-schule.org/event/beweglicher-ferientag-unterrichtsfrei-6
END:VEVENT
END:VCALENDAR